BEGIN:VCALENDAR
VERSION:2.0
PRODID:icalendar-ruby
CALSCALE:GREGORIAN
METHOD:PUBLISH
BEGIN:VEVENT
DTSTAMP:20260425T165619Z
UID:129-1048799@madisonbaptists.org
DTSTART:20260506T190000Z
DTEND:20260506T210000Z
CLASS:PUBLIC
CREATED:20260423T110241
DESCRIPTION:Topics:\nFinancial Fraud\nIdentity Theft\nImposter Scams\nInves
 tment Scams\nWednesday\, May 6\, 2026\n12 p.m. to 2 p.m.\nSeating is limit
 ed. Registration Deadline: Friday\, May 1\, 2026\nRegister with link provi
 ded or scan the QR code in the attached image
LAST-MODIFIED:20260423T110241
LOCATION:STUDIO 60® Courtyard Cafe\, 2200 Drake Ave.\, SW Huntsville\, AL 
 35805
SUMMARY:HUNTSVILLE COMMUNITY FRAUD SUMMIT
URL;VALUE=URI:https://www.madisonbaptists.org/events/huntsville-community-f
 raud-summit/2026-05-06
ATTACH;FILENAME=fraudsummitbbb.JPG;FMTTYPE=image/jpeg:https://dq5pwpg1q8ru0
 .cloudfront.net/2026/04/23/18/01/26/4bcafa08-e27b-4aa9-a75f-0b1cf98fb1f4/f
 raudsummitbbb.JPG
END:VEVENT
END:VCALENDAR
